BEGIN:VCALENDAR
VERSION:2.0
PRODID:-//National Congress of Ghanaian Unions | NCGU |UK - ECPv6.15.20//NONSGML v1.0//EN
CALSCALE:GREGORIAN
METHOD:PUBLISH
X-WR-CALNAME:National Congress of Ghanaian Unions | NCGU |UK
X-ORIGINAL-URL:https://ncgu.org.uk
X-WR-CALDESC:Events for National Congress of Ghanaian Unions | NCGU |UK
REFRESH-INTERVAL;VALUE=DURATION:PT1H
X-Robots-Tag:noindex
X-PUBLISHED-TTL:PT1H
BEGIN:VTIMEZONE
TZID:America/New_York
BEGIN:DAYLIGHT
TZOFFSETFROM:-0500
TZOFFSETTO:-0400
TZNAME:EDT
DTSTART:20200308T070000
END:DAYLIGHT
BEGIN:STANDARD
TZOFFSETFROM:-0400
TZOFFSETTO:-0500
TZNAME:EST
DTSTART:20201101T060000
END:STANDARD
BEGIN:DAYLIGHT
TZOFFSETFROM:-0500
TZOFFSETTO:-0400
TZNAME:EDT
DTSTART:20210314T070000
END:DAYLIGHT
BEGIN:STANDARD
TZOFFSETFROM:-0400
TZOFFSETTO:-0500
TZNAME:EST
DTSTART:20211107T060000
END:STANDARD
BEGIN:DAYLIGHT
TZOFFSETFROM:-0500
TZOFFSETTO:-0400
TZNAME:EDT
DTSTART:20220313T070000
END:DAYLIGHT
BEGIN:STANDARD
TZOFFSETFROM:-0400
TZOFFSETTO:-0500
TZNAME:EST
DTSTART:20221106T060000
END:STANDARD
END:VTIMEZONE
BEGIN:VEVENT
DTSTART;TZID=America/New_York:20211205T190000
DTEND;TZID=America/New_York:20211205T210000
DTSTAMP:20260424T203401
CREATED:20210717T062338Z
LAST-MODIFIED:20211028T113940Z
UID:3737-1638730800-1638738000@ncgu.org.uk
SUMMARY:NCGU Pre-Inauguration Meeting
DESCRIPTION:For NCGU to survive and sustain itself\, it is necessary to recruit more regions into its fold. This AGM presents an opportunity for a new direction of leadership. To earn the trust and respect of the people\, the NCGU must become a formidable national voice\, capable of engaging the Ghanaian and UK authorities in policy decisions\, advocating for change where necessary\, lending support to Government\, land in collaboration with other agencies\, leading the call for more favourable conditions for Ghanaians/Africans living in the UK.
URL:https://ncgu.org.uk/event/ncgu-general-meeting/
LOCATION:ZOOM – Virtual\, United Kingdom
CATEGORIES:General,NCGU Meetings
ATTACH;FMTTYPE=image/jpeg:https://ncgu.org.uk/wp-content/uploads/2021/07/NCGU-Inauguration-Oct2015-18-2.jpg
END:VEVENT
BEGIN:VEVENT
DTSTART;TZID=America/New_York:20210829T080000
DTEND;TZID=America/New_York:20210829T170000
DTSTAMP:20260424T203401
CREATED:20210717T060108Z
LAST-MODIFIED:20210719T061708Z
UID:3733-1630224000-1630256400@ncgu.org.uk
SUMMARY:NCGU Executive Meeting
DESCRIPTION:Previous meetings were generally held in person\, hosted by a designated region until the COVID pandemic struck\, when regular meetings were held virtually. The general sense is that considering the locations of Trustees\, distance and costs involved in organising face-to-face meetings\, virtual meetings \nhas served to better engage everyone’s input and shall be adopted going forward with one meeting in person at AGM when circumstances permit.
URL:https://ncgu.org.uk/event/ncgu-executive-meeting/
LOCATION:NCGU Head Office\, The National Congress of Ghanaian Unions\, UK\, 82 Market Street\, Droylsden\,\, Manchester\, Greater Manchester\, M43 6DE\, United Kingdom
CATEGORIES:Executive,NCGU Meetings
ATTACH;FMTTYPE=image/jpeg:https://ncgu.org.uk/wp-content/uploads/2021/07/NCGU-ANRP1Crop2.jpg
END:VEVENT
END:VCALENDAR